BEGIN:VCALENDAR
VERSION:2.0
PRODID:-//Squarespace Inc/Squarespace 6//v6//EN
BEGIN:VEVENT
UID:5510e9b7e4b07c808503dd33@squarespace.com
DTSTAMP:20150324T045109Z
DTSTART:20150320T213000Z
DTEND:20150322T030000Z
SUMMARY:2015 ASM Melbourne\, VIC
GEO:-37.824779;144.958173
LOCATION:Crown Promenade Hotel\, 8 Whiteman St\, Southbank\, VIC\, 3006\, A
 ustralia
END:VEVENT
END:VCALENDAR
