BEGIN:VCALENDAR
VERSION:2.0
PRODID:-//Squarespace Inc/Squarespace 6//v6//EN
BEGIN:VEVENT
UID:54c5e5d4e4b08b9c0934655c@squarespace.com
DTSTAMP:20150126T082847Z
DTSTART:20130322T120000Z
DTEND:20130324T170000Z
SUMMARY:2013 ASM Hobart\, TAS
GEO:-42.811452;147.260067
LOCATION:MONA\, 651-655 Main Rd\, Berriedale\, TAS\, 7011\, Australia
END:VEVENT
END:VCALENDAR
