BEGIN:VCALENDAR
VERSION:2.0
PRODID:-//Squarespace Inc/Squarespace 6//v6//EN
BEGIN:VEVENT
UID:54c5e28ce4b04884b36ef731@squarespace.com
DTSTAMP:20150126T082947Z
DTSTART:20120323T120000Z
DTEND:20120325T170000Z
SUMMARY:2012 ASM Auckland\, NZ
GEO:-36.839855;174.765422
LOCATION:Hilton Hotel\, PRINCES WHARF 147 Quay St\, Auckland\, Auckland\, 1
 010\, New Zealand
END:VEVENT
END:VCALENDAR
