BEGIN:VCALENDAR
VERSION:2.0
PRODID:-//Squarespace Inc/Squarespace 6//v6//EN
BEGIN:VEVENT
UID:54c5e0b2e4b050a35a87aaca@squarespace.com
DTSTAMP:20150126T083150Z
DTSTART:20070727T120000Z
DTEND:20070730T170000Z
SUMMARY:2007 ASM Hamilton Island\, QLD
GEO:-20.347452;148.956625
LOCATION:Reef View Hotel\, 12 Resort Dr\, Hamilton Island\, QLD\, 4803\, Au
 stralia
END:VEVENT
END:VCALENDAR
