BEGIN:VCALENDAR
VERSION:2.0
PRODID:-//Squarespace Inc/Squarespace 6//v6//EN
BEGIN:VEVENT
UID:54cc324ae4b06884b54404ea@squarespace.com
DTSTAMP:20150131T014716Z
DTSTART:20010302T040000Z
DTEND:20010304T030000Z
SUMMARY:2001 ASM Lorne\, VIC
GEO:-38.542694;143.975079
LOCATION:Cumberland Lorne Resort\, 150 Mountjoy Parade\, Lorne\, VIC\, 3232
 \, Australia
END:VEVENT
END:VCALENDAR
