BEGIN:VCALENDAR
VERSION:2.0
PRODID:-//Squarespace Inc/Squarespace 6//v6//EN
BEGIN:VEVENT
UID:5e407f93ea5b494723750c6c@squarespace.com
DTSTAMP:20200209T215713Z
DTSTART:20200908T220000Z
DTEND:20200913T060000Z
SUMMARY:American Society of Head &amp\; Neck Radiology
END:VEVENT
END:VCALENDAR
