BEGIN:VCALENDAR
VERSION:2.0
PRODID:-//Squarespace Inc/Squarespace 6//v6//EN
BEGIN:VEVENT
UID:5c6cd352b208fc802a7eecea@squarespace.com
DTSTAMP:20191211T034842Z
DTSTART:20200312T013000Z
DTEND:20200315T013000Z
SUMMARY:ANZSNR ASM 2020
END:VEVENT
END:VCALENDAR
