BEGIN:VCALENDAR
VERSION:2.0
PRODID:-//Squarespace Inc/Squarespace 6//v6//EN
BEGIN:VEVENT
UID:5c04d6e94d7a9c54295ba0a8@squarespace.com
DTSTAMP:20181203T071230Z
DTSTART:20190320T213000Z
DTEND:20190324T023000Z
SUMMARY:ANZSNR ASM 2019
END:VEVENT
END:VCALENDAR
